BEGIN:VCALENDAR
VERSION:2.0
PRODID:-// - ECPv6.0.1.1//NONSGML v1.0//EN
CALSCALE:GREGORIAN
METHOD:PUBLISH
X-ORIGINAL-URL:https://melbeachgrapevine.com
X-WR-CALDESC:Events for 
REFRESH-INTERVAL;VALUE=DURATION:PT1H
X-Robots-Tag:noindex
X-PUBLISHED-TTL:PT1H
BEGIN:VTIMEZONE
TZID:America/New_York
BEGIN:DAYLIGHT
TZOFFSETFROM:-0500
TZOFFSETTO:-0400
TZNAME:EDT
DTSTART:20250309T070000
END:DAYLIGHT
BEGIN:STANDARD
TZOFFSETFROM:-0400
TZOFFSETTO:-0500
TZNAME:EST
DTSTART:20251102T060000
END:STANDARD
END:VTIMEZONE
BEGIN:VEVENT
DTSTART;TZID=America/New_York:20250214T093000
DTEND;TZID=America/New_York:20250214T223000
DTSTAMP:20260421T061110
CREATED:20221019T235901Z
LAST-MODIFIED:20221020T000134Z
UID:10000562-1739525400-1739572200@melbeachgrapevine.com
SUMMARY:Chi-Ful Fridays: Qigong
DESCRIPTION:
URL:https://melbeachgrapevine.com/event/chi-ful-fridays-qigong/2025-02-14/
LOCATION:Ryckman Park\, 509 Ocean Ave\, Melbourne Beach\, FL\, 32951\, United States
CATEGORIES:Fitness
END:VEVENT
BEGIN:VEVENT
DTSTART;TZID=America/New_York:20250213T180000
DTEND;TZID=America/New_York:20250213T190000
DTSTAMP:20260421T061110
CREATED:20221025T194343Z
LAST-MODIFIED:20221101T201309Z
UID:10002651-1739469600-1739473200@melbeachgrapevine.com
SUMMARY:Sunset Yoga
DESCRIPTION:Join Jessica Mundo for Sunset Yoga. All levels welcome. \n  \n 
URL:https://melbeachgrapevine.com/event/sunset-yoga-2/2025-02-13/
LOCATION:Ryckman Park\, 509 Ocean Ave\, Melbourne Beach\, FL\, 32951\, United States
CATEGORIES:Fitness
END:VEVENT
BEGIN:VEVENT
DTSTART;TZID=America/New_York:20250212T090000
DTEND;TZID=America/New_York:20250212T094500
DTSTAMP:20260421T061110
CREATED:20221101T201221Z
LAST-MODIFIED:20221102T002638Z
UID:10002128-1739350800-1739353500@melbeachgrapevine.com
SUMMARY:Flow and Be Strong Fitness Class
DESCRIPTION:
URL:https://melbeachgrapevine.com/event/flow-and-be-strong-fitness-class/2025-02-12/
LOCATION:Ryckman Park\, 509 Ocean Ave\, Melbourne Beach\, FL\, 32951\, United States
CATEGORIES:Fitness
END:VEVENT
BEGIN:VEVENT
DTSTART;TZID=America/New_York:20250211T180000
DTEND;TZID=America/New_York:20250211T190000
DTSTAMP:20260421T061110
CREATED:20221019T203014Z
LAST-MODIFIED:20221101T201249Z
UID:10002390-1739296800-1739300400@melbeachgrapevine.com
SUMMARY:Sunset Yoga
DESCRIPTION:Enjoy a free yoga class led by Jessica Mundo. Great for all levels.
URL:https://melbeachgrapevine.com/event/sunset-yoga/2025-02-11/
LOCATION:Ryckman Park\, 509 Ocean Ave\, Melbourne Beach\, FL\, 32951\, United States
CATEGORIES:Fitness
END:VEVENT
BEGIN:VEVENT
DTSTART;TZID=America/New_York:20250207T103000
DTEND;TZID=America/New_York:20250207T113000
DTSTAMP:20260421T061110
CREATED:20221020T000240Z
LAST-MODIFIED:20221020T000241Z
UID:10001082-1738924200-1738927800@melbeachgrapevine.com
SUMMARY:Chi-Ful Fridays: Tai Chi 1+2
DESCRIPTION:
URL:https://melbeachgrapevine.com/event/chi-ful-fridays-tai-chi-12-2/2025-02-07/
LOCATION:Ryckman Park\, 509 Ocean Ave\, Melbourne Beach\, FL\, 32951\, United States
CATEGORIES:Fitness
END:VEVENT
BEGIN:VEVENT
DTSTART;TZID=America/New_York:20250207T093000
DTEND;TZID=America/New_York:20250207T223000
DTSTAMP:20260421T061110
CREATED:20221019T235901Z
LAST-MODIFIED:20221020T000134Z
UID:10000561-1738920600-1738967400@melbeachgrapevine.com
SUMMARY:Chi-Ful Fridays: Qigong
DESCRIPTION:
URL:https://melbeachgrapevine.com/event/chi-ful-fridays-qigong/2025-02-07/
LOCATION:Ryckman Park\, 509 Ocean Ave\, Melbourne Beach\, FL\, 32951\, United States
CATEGORIES:Fitness
END:VEVENT
BEGIN:VEVENT
DTSTART;TZID=America/New_York:20250206T180000
DTEND;TZID=America/New_York:20250206T190000
DTSTAMP:20260421T061110
CREATED:20221025T194343Z
LAST-MODIFIED:20221101T201309Z
UID:10002650-1738864800-1738868400@melbeachgrapevine.com
SUMMARY:Sunset Yoga
DESCRIPTION:Join Jessica Mundo for Sunset Yoga. All levels welcome. \n  \n 
URL:https://melbeachgrapevine.com/event/sunset-yoga-2/2025-02-06/
LOCATION:Ryckman Park\, 509 Ocean Ave\, Melbourne Beach\, FL\, 32951\, United States
CATEGORIES:Fitness
END:VEVENT
BEGIN:VEVENT
DTSTART;TZID=America/New_York:20250206T103000
DTEND;TZID=America/New_York:20250206T111500
DTSTAMP:20260421T061110
CREATED:20221019T200518Z
LAST-MODIFIED:20221130T204230Z
UID:10000029-1738837800-1738840500@melbeachgrapevine.com
SUMMARY:My Musical Tree
DESCRIPTION:
URL:https://melbeachgrapevine.com/event/my-musical-tree/2025-02-06/
LOCATION:Ryckman Park\, 509 Ocean Ave\, Melbourne Beach\, FL\, 32951\, United States
CATEGORIES:Kid Event
END:VEVENT
BEGIN:VEVENT
DTSTART;TZID=America/New_York:20250205T090000
DTEND;TZID=America/New_York:20250205T094500
DTSTAMP:20260421T061110
CREATED:20221101T201221Z
LAST-MODIFIED:20221102T002638Z
UID:10002127-1738746000-1738748700@melbeachgrapevine.com
SUMMARY:Flow and Be Strong Fitness Class
DESCRIPTION:
URL:https://melbeachgrapevine.com/event/flow-and-be-strong-fitness-class/2025-02-05/
LOCATION:Ryckman Park\, 509 Ocean Ave\, Melbourne Beach\, FL\, 32951\, United States
CATEGORIES:Fitness
END:VEVENT
BEGIN:VEVENT
DTSTART;TZID=America/New_York:20250204T180000
DTEND;TZID=America/New_York:20250204T190000
DTSTAMP:20260421T061110
CREATED:20221019T203014Z
LAST-MODIFIED:20221101T201249Z
UID:10002389-1738692000-1738695600@melbeachgrapevine.com
SUMMARY:Sunset Yoga
DESCRIPTION:Enjoy a free yoga class led by Jessica Mundo. Great for all levels.
URL:https://melbeachgrapevine.com/event/sunset-yoga/2025-02-04/
LOCATION:Ryckman Park\, 509 Ocean Ave\, Melbourne Beach\, FL\, 32951\, United States
CATEGORIES:Fitness
END:VEVENT
BEGIN:VEVENT
DTSTART;TZID=America/New_York:20250131T103000
DTEND;TZID=America/New_York:20250131T113000
DTSTAMP:20260421T061110
CREATED:20221020T000240Z
LAST-MODIFIED:20221020T000241Z
UID:10001081-1738319400-1738323000@melbeachgrapevine.com
SUMMARY:Chi-Ful Fridays: Tai Chi 1+2
DESCRIPTION:
URL:https://melbeachgrapevine.com/event/chi-ful-fridays-tai-chi-12-2/2025-01-31/
LOCATION:Ryckman Park\, 509 Ocean Ave\, Melbourne Beach\, FL\, 32951\, United States
CATEGORIES:Fitness
END:VEVENT
BEGIN:VEVENT
DTSTART;TZID=America/New_York:20250131T093000
DTEND;TZID=America/New_York:20250131T223000
DTSTAMP:20260421T061110
CREATED:20221019T235901Z
LAST-MODIFIED:20221020T000134Z
UID:10000560-1738315800-1738362600@melbeachgrapevine.com
SUMMARY:Chi-Ful Fridays: Qigong
DESCRIPTION:
URL:https://melbeachgrapevine.com/event/chi-ful-fridays-qigong/2025-01-31/
LOCATION:Ryckman Park\, 509 Ocean Ave\, Melbourne Beach\, FL\, 32951\, United States
CATEGORIES:Fitness
END:VEVENT
BEGIN:VEVENT
DTSTART;TZID=America/New_York:20250130T180000
DTEND;TZID=America/New_York:20250130T190000
DTSTAMP:20260421T061110
CREATED:20221025T194343Z
LAST-MODIFIED:20221101T201309Z
UID:10002649-1738260000-1738263600@melbeachgrapevine.com
SUMMARY:Sunset Yoga
DESCRIPTION:Join Jessica Mundo for Sunset Yoga. All levels welcome. \n  \n 
URL:https://melbeachgrapevine.com/event/sunset-yoga-2/2025-01-30/
LOCATION:Ryckman Park\, 509 Ocean Ave\, Melbourne Beach\, FL\, 32951\, United States
CATEGORIES:Fitness
END:VEVENT
BEGIN:VEVENT
DTSTART;TZID=America/New_York:20250129T090000
DTEND;TZID=America/New_York:20250129T094500
DTSTAMP:20260421T061110
CREATED:20221101T201221Z
LAST-MODIFIED:20221102T002638Z
UID:10002126-1738141200-1738143900@melbeachgrapevine.com
SUMMARY:Flow and Be Strong Fitness Class
DESCRIPTION:
URL:https://melbeachgrapevine.com/event/flow-and-be-strong-fitness-class/2025-01-29/
LOCATION:Ryckman Park\, 509 Ocean Ave\, Melbourne Beach\, FL\, 32951\, United States
CATEGORIES:Fitness
END:VEVENT
BEGIN:VEVENT
DTSTART;TZID=America/New_York:20250128T180000
DTEND;TZID=America/New_York:20250128T190000
DTSTAMP:20260421T061110
CREATED:20221019T203014Z
LAST-MODIFIED:20221101T201249Z
UID:10002388-1738087200-1738090800@melbeachgrapevine.com
SUMMARY:Sunset Yoga
DESCRIPTION:Enjoy a free yoga class led by Jessica Mundo. Great for all levels.
URL:https://melbeachgrapevine.com/event/sunset-yoga/2025-01-28/
LOCATION:Ryckman Park\, 509 Ocean Ave\, Melbourne Beach\, FL\, 32951\, United States
CATEGORIES:Fitness
END:VEVENT
BEGIN:VEVENT
DTSTART;TZID=America/New_York:20250124T103000
DTEND;TZID=America/New_York:20250124T113000
DTSTAMP:20260421T061110
CREATED:20221020T000240Z
LAST-MODIFIED:20221020T000241Z
UID:10001080-1737714600-1737718200@melbeachgrapevine.com
SUMMARY:Chi-Ful Fridays: Tai Chi 1+2
DESCRIPTION:
URL:https://melbeachgrapevine.com/event/chi-ful-fridays-tai-chi-12-2/2025-01-24/
LOCATION:Ryckman Park\, 509 Ocean Ave\, Melbourne Beach\, FL\, 32951\, United States
CATEGORIES:Fitness
END:VEVENT
BEGIN:VEVENT
DTSTART;TZID=America/New_York:20250124T093000
DTEND;TZID=America/New_York:20250124T223000
DTSTAMP:20260421T061110
CREATED:20221019T235901Z
LAST-MODIFIED:20221020T000134Z
UID:10000559-1737711000-1737757800@melbeachgrapevine.com
SUMMARY:Chi-Ful Fridays: Qigong
DESCRIPTION:
URL:https://melbeachgrapevine.com/event/chi-ful-fridays-qigong/2025-01-24/
LOCATION:Ryckman Park\, 509 Ocean Ave\, Melbourne Beach\, FL\, 32951\, United States
CATEGORIES:Fitness
END:VEVENT
BEGIN:VEVENT
DTSTART;TZID=America/New_York:20250123T180000
DTEND;TZID=America/New_York:20250123T190000
DTSTAMP:20260421T061110
CREATED:20221025T194343Z
LAST-MODIFIED:20221101T201309Z
UID:10002648-1737655200-1737658800@melbeachgrapevine.com
SUMMARY:Sunset Yoga
DESCRIPTION:Join Jessica Mundo for Sunset Yoga. All levels welcome. \n  \n 
URL:https://melbeachgrapevine.com/event/sunset-yoga-2/2025-01-23/
LOCATION:Ryckman Park\, 509 Ocean Ave\, Melbourne Beach\, FL\, 32951\, United States
CATEGORIES:Fitness
END:VEVENT
BEGIN:VEVENT
DTSTART;TZID=America/New_York:20250122T090000
DTEND;TZID=America/New_York:20250122T094500
DTSTAMP:20260421T061110
CREATED:20221101T201221Z
LAST-MODIFIED:20221102T002638Z
UID:10002125-1737536400-1737539100@melbeachgrapevine.com
SUMMARY:Flow and Be Strong Fitness Class
DESCRIPTION:
URL:https://melbeachgrapevine.com/event/flow-and-be-strong-fitness-class/2025-01-22/
LOCATION:Ryckman Park\, 509 Ocean Ave\, Melbourne Beach\, FL\, 32951\, United States
CATEGORIES:Fitness
END:VEVENT
BEGIN:VEVENT
DTSTART;TZID=America/New_York:20250121T180000
DTEND;TZID=America/New_York:20250121T190000
DTSTAMP:20260421T061110
CREATED:20221019T203014Z
LAST-MODIFIED:20221101T201249Z
UID:10002387-1737482400-1737486000@melbeachgrapevine.com
SUMMARY:Sunset Yoga
DESCRIPTION:Enjoy a free yoga class led by Jessica Mundo. Great for all levels.
URL:https://melbeachgrapevine.com/event/sunset-yoga/2025-01-21/
LOCATION:Ryckman Park\, 509 Ocean Ave\, Melbourne Beach\, FL\, 32951\, United States
CATEGORIES:Fitness
END:VEVENT
BEGIN:VEVENT
DTSTART;TZID=America/New_York:20250117T103000
DTEND;TZID=America/New_York:20250117T113000
DTSTAMP:20260421T061110
CREATED:20221020T000240Z
LAST-MODIFIED:20221020T000241Z
UID:10001079-1737109800-1737113400@melbeachgrapevine.com
SUMMARY:Chi-Ful Fridays: Tai Chi 1+2
DESCRIPTION:
URL:https://melbeachgrapevine.com/event/chi-ful-fridays-tai-chi-12-2/2025-01-17/
LOCATION:Ryckman Park\, 509 Ocean Ave\, Melbourne Beach\, FL\, 32951\, United States
CATEGORIES:Fitness
END:VEVENT
BEGIN:VEVENT
DTSTART;TZID=America/New_York:20250117T093000
DTEND;TZID=America/New_York:20250117T223000
DTSTAMP:20260421T061110
CREATED:20221019T235901Z
LAST-MODIFIED:20221020T000134Z
UID:10000558-1737106200-1737153000@melbeachgrapevine.com
SUMMARY:Chi-Ful Fridays: Qigong
DESCRIPTION:
URL:https://melbeachgrapevine.com/event/chi-ful-fridays-qigong/2025-01-17/
LOCATION:Ryckman Park\, 509 Ocean Ave\, Melbourne Beach\, FL\, 32951\, United States
CATEGORIES:Fitness
END:VEVENT
BEGIN:VEVENT
DTSTART;TZID=America/New_York:20250116T180000
DTEND;TZID=America/New_York:20250116T190000
DTSTAMP:20260421T061110
CREATED:20221025T194343Z
LAST-MODIFIED:20221101T201309Z
UID:10002647-1737050400-1737054000@melbeachgrapevine.com
SUMMARY:Sunset Yoga
DESCRIPTION:Join Jessica Mundo for Sunset Yoga. All levels welcome. \n  \n 
URL:https://melbeachgrapevine.com/event/sunset-yoga-2/2025-01-16/
LOCATION:Ryckman Park\, 509 Ocean Ave\, Melbourne Beach\, FL\, 32951\, United States
CATEGORIES:Fitness
END:VEVENT
BEGIN:VEVENT
DTSTART;TZID=America/New_York:20250115T090000
DTEND;TZID=America/New_York:20250115T094500
DTSTAMP:20260421T061110
CREATED:20221101T201221Z
LAST-MODIFIED:20221102T002638Z
UID:10002124-1736931600-1736934300@melbeachgrapevine.com
SUMMARY:Flow and Be Strong Fitness Class
DESCRIPTION:
URL:https://melbeachgrapevine.com/event/flow-and-be-strong-fitness-class/2025-01-15/
LOCATION:Ryckman Park\, 509 Ocean Ave\, Melbourne Beach\, FL\, 32951\, United States
CATEGORIES:Fitness
END:VEVENT
BEGIN:VEVENT
DTSTART;TZID=America/New_York:20250114T180000
DTEND;TZID=America/New_York:20250114T190000
DTSTAMP:20260421T061110
CREATED:20221019T203014Z
LAST-MODIFIED:20221101T201249Z
UID:10002386-1736877600-1736881200@melbeachgrapevine.com
SUMMARY:Sunset Yoga
DESCRIPTION:Enjoy a free yoga class led by Jessica Mundo. Great for all levels.
URL:https://melbeachgrapevine.com/event/sunset-yoga/2025-01-14/
LOCATION:Ryckman Park\, 509 Ocean Ave\, Melbourne Beach\, FL\, 32951\, United States
CATEGORIES:Fitness
END:VEVENT
BEGIN:VEVENT
DTSTART;TZID=America/New_York:20250110T103000
DTEND;TZID=America/New_York:20250110T113000
DTSTAMP:20260421T061110
CREATED:20221020T000240Z
LAST-MODIFIED:20221020T000241Z
UID:10001078-1736505000-1736508600@melbeachgrapevine.com
SUMMARY:Chi-Ful Fridays: Tai Chi 1+2
DESCRIPTION:
URL:https://melbeachgrapevine.com/event/chi-ful-fridays-tai-chi-12-2/2025-01-10/
LOCATION:Ryckman Park\, 509 Ocean Ave\, Melbourne Beach\, FL\, 32951\, United States
CATEGORIES:Fitness
END:VEVENT
BEGIN:VEVENT
DTSTART;TZID=America/New_York:20250110T093000
DTEND;TZID=America/New_York:20250110T223000
DTSTAMP:20260421T061110
CREATED:20221019T235901Z
LAST-MODIFIED:20221020T000134Z
UID:10000557-1736501400-1736548200@melbeachgrapevine.com
SUMMARY:Chi-Ful Fridays: Qigong
DESCRIPTION:
URL:https://melbeachgrapevine.com/event/chi-ful-fridays-qigong/2025-01-10/
LOCATION:Ryckman Park\, 509 Ocean Ave\, Melbourne Beach\, FL\, 32951\, United States
CATEGORIES:Fitness
END:VEVENT
BEGIN:VEVENT
DTSTART;TZID=America/New_York:20250109T180000
DTEND;TZID=America/New_York:20250109T190000
DTSTAMP:20260421T061110
CREATED:20221025T194343Z
LAST-MODIFIED:20221101T201309Z
UID:10002646-1736445600-1736449200@melbeachgrapevine.com
SUMMARY:Sunset Yoga
DESCRIPTION:Join Jessica Mundo for Sunset Yoga. All levels welcome. \n  \n 
URL:https://melbeachgrapevine.com/event/sunset-yoga-2/2025-01-09/
LOCATION:Ryckman Park\, 509 Ocean Ave\, Melbourne Beach\, FL\, 32951\, United States
CATEGORIES:Fitness
END:VEVENT
BEGIN:VEVENT
DTSTART;TZID=America/New_York:20250108T090000
DTEND;TZID=America/New_York:20250108T094500
DTSTAMP:20260421T061110
CREATED:20221101T201221Z
LAST-MODIFIED:20221102T002638Z
UID:10002123-1736326800-1736329500@melbeachgrapevine.com
SUMMARY:Flow and Be Strong Fitness Class
DESCRIPTION:
URL:https://melbeachgrapevine.com/event/flow-and-be-strong-fitness-class/2025-01-08/
LOCATION:Ryckman Park\, 509 Ocean Ave\, Melbourne Beach\, FL\, 32951\, United States
CATEGORIES:Fitness
END:VEVENT
BEGIN:VEVENT
DTSTART;TZID=America/New_York:20250107T180000
DTEND;TZID=America/New_York:20250107T190000
DTSTAMP:20260421T061110
CREATED:20221019T203014Z
LAST-MODIFIED:20221101T201249Z
UID:10002385-1736272800-1736276400@melbeachgrapevine.com
SUMMARY:Sunset Yoga
DESCRIPTION:Enjoy a free yoga class led by Jessica Mundo. Great for all levels.
URL:https://melbeachgrapevine.com/event/sunset-yoga/2025-01-07/
LOCATION:Ryckman Park\, 509 Ocean Ave\, Melbourne Beach\, FL\, 32951\, United States
CATEGORIES:Fitness
END:VEVENT
END:VCALENDAR