BEGIN:VCALENDAR
VERSION:2.0
PRODID:-// - ECPv6.0.1.1//NONSGML v1.0//EN
CALSCALE:GREGORIAN
METHOD:PUBLISH
X-ORIGINAL-URL:https://melbeachgrapevine.com
X-WR-CALDESC:Events for 
REFRESH-INTERVAL;VALUE=DURATION:PT1H
X-Robots-Tag:noindex
X-PUBLISHED-TTL:PT1H
BEGIN:VTIMEZONE
TZID:America/New_York
BEGIN:DAYLIGHT
TZOFFSETFROM:-0500
TZOFFSETTO:-0400
TZNAME:EDT
DTSTART:20240310T070000
END:DAYLIGHT
BEGIN:STANDARD
TZOFFSETFROM:-0400
TZOFFSETTO:-0500
TZNAME:EST
DTSTART:20241103T060000
END:STANDARD
END:VTIMEZONE
BEGIN:VEVENT
DTSTART;TZID=America/New_York:20241128T180000
DTEND;TZID=America/New_York:20241128T190000
DTSTAMP:20260421T202921
CREATED:20221025T194343Z
LAST-MODIFIED:20221101T201309Z
UID:10002640-1732816800-1732820400@melbeachgrapevine.com
SUMMARY:Sunset Yoga
DESCRIPTION:Join Jessica Mundo for Sunset Yoga. All levels welcome. \n  \n 
URL:https://melbeachgrapevine.com/event/sunset-yoga-2/2024-11-28/
LOCATION:Ryckman Park\, 509 Ocean Ave\, Melbourne Beach\, FL\, 32951\, United States
CATEGORIES:Fitness
END:VEVENT
BEGIN:VEVENT
DTSTART;TZID=America/New_York:20241127T090000
DTEND;TZID=America/New_York:20241127T094500
DTSTAMP:20260421T202921
CREATED:20221101T201221Z
LAST-MODIFIED:20221102T002638Z
UID:10002117-1732698000-1732700700@melbeachgrapevine.com
SUMMARY:Flow and Be Strong Fitness Class
DESCRIPTION:
URL:https://melbeachgrapevine.com/event/flow-and-be-strong-fitness-class/2024-11-27/
LOCATION:Ryckman Park\, 509 Ocean Ave\, Melbourne Beach\, FL\, 32951\, United States
CATEGORIES:Fitness
END:VEVENT
BEGIN:VEVENT
DTSTART;TZID=America/New_York:20241126T180000
DTEND;TZID=America/New_York:20241126T190000
DTSTAMP:20260421T202921
CREATED:20221019T203014Z
LAST-MODIFIED:20221101T201249Z
UID:10002379-1732644000-1732647600@melbeachgrapevine.com
SUMMARY:Sunset Yoga
DESCRIPTION:Enjoy a free yoga class led by Jessica Mundo. Great for all levels.
URL:https://melbeachgrapevine.com/event/sunset-yoga/2024-11-26/
LOCATION:Ryckman Park\, 509 Ocean Ave\, Melbourne Beach\, FL\, 32951\, United States
CATEGORIES:Fitness
END:VEVENT
BEGIN:VEVENT
DTSTART;TZID=America/New_York:20241122T103000
DTEND;TZID=America/New_York:20241122T113000
DTSTAMP:20260421T202921
CREATED:20221020T000240Z
LAST-MODIFIED:20221020T000241Z
UID:10001071-1732271400-1732275000@melbeachgrapevine.com
SUMMARY:Chi-Ful Fridays: Tai Chi 1+2
DESCRIPTION:
URL:https://melbeachgrapevine.com/event/chi-ful-fridays-tai-chi-12-2/2024-11-22/
LOCATION:Ryckman Park\, 509 Ocean Ave\, Melbourne Beach\, FL\, 32951\, United States
CATEGORIES:Fitness
END:VEVENT
BEGIN:VEVENT
DTSTART;TZID=America/New_York:20241122T093000
DTEND;TZID=America/New_York:20241122T223000
DTSTAMP:20260421T202921
CREATED:20221019T235901Z
LAST-MODIFIED:20221020T000134Z
UID:10000550-1732267800-1732314600@melbeachgrapevine.com
SUMMARY:Chi-Ful Fridays: Qigong
DESCRIPTION:
URL:https://melbeachgrapevine.com/event/chi-ful-fridays-qigong/2024-11-22/
LOCATION:Ryckman Park\, 509 Ocean Ave\, Melbourne Beach\, FL\, 32951\, United States
CATEGORIES:Fitness
END:VEVENT
BEGIN:VEVENT
DTSTART;TZID=America/New_York:20241121T180000
DTEND;TZID=America/New_York:20241121T190000
DTSTAMP:20260421T202921
CREATED:20221025T194343Z
LAST-MODIFIED:20221101T201309Z
UID:10002639-1732212000-1732215600@melbeachgrapevine.com
SUMMARY:Sunset Yoga
DESCRIPTION:Join Jessica Mundo for Sunset Yoga. All levels welcome. \n  \n 
URL:https://melbeachgrapevine.com/event/sunset-yoga-2/2024-11-21/
LOCATION:Ryckman Park\, 509 Ocean Ave\, Melbourne Beach\, FL\, 32951\, United States
CATEGORIES:Fitness
END:VEVENT
BEGIN:VEVENT
DTSTART;TZID=America/New_York:20241120T090000
DTEND;TZID=America/New_York:20241120T094500
DTSTAMP:20260421T202921
CREATED:20221101T201221Z
LAST-MODIFIED:20221102T002638Z
UID:10002116-1732093200-1732095900@melbeachgrapevine.com
SUMMARY:Flow and Be Strong Fitness Class
DESCRIPTION:
URL:https://melbeachgrapevine.com/event/flow-and-be-strong-fitness-class/2024-11-20/
LOCATION:Ryckman Park\, 509 Ocean Ave\, Melbourne Beach\, FL\, 32951\, United States
CATEGORIES:Fitness
END:VEVENT
BEGIN:VEVENT
DTSTART;TZID=America/New_York:20241119T180000
DTEND;TZID=America/New_York:20241119T190000
DTSTAMP:20260421T202921
CREATED:20221019T203014Z
LAST-MODIFIED:20221101T201249Z
UID:10002378-1732039200-1732042800@melbeachgrapevine.com
SUMMARY:Sunset Yoga
DESCRIPTION:Enjoy a free yoga class led by Jessica Mundo. Great for all levels.
URL:https://melbeachgrapevine.com/event/sunset-yoga/2024-11-19/
LOCATION:Ryckman Park\, 509 Ocean Ave\, Melbourne Beach\, FL\, 32951\, United States
CATEGORIES:Fitness
END:VEVENT
BEGIN:VEVENT
DTSTART;TZID=America/New_York:20241115T103000
DTEND;TZID=America/New_York:20241115T113000
DTSTAMP:20260421T202921
CREATED:20221020T000240Z
LAST-MODIFIED:20221020T000241Z
UID:10001070-1731666600-1731670200@melbeachgrapevine.com
SUMMARY:Chi-Ful Fridays: Tai Chi 1+2
DESCRIPTION:
URL:https://melbeachgrapevine.com/event/chi-ful-fridays-tai-chi-12-2/2024-11-15/
LOCATION:Ryckman Park\, 509 Ocean Ave\, Melbourne Beach\, FL\, 32951\, United States
CATEGORIES:Fitness
END:VEVENT
BEGIN:VEVENT
DTSTART;TZID=America/New_York:20241115T093000
DTEND;TZID=America/New_York:20241115T223000
DTSTAMP:20260421T202921
CREATED:20221019T235901Z
LAST-MODIFIED:20221020T000134Z
UID:10000549-1731663000-1731709800@melbeachgrapevine.com
SUMMARY:Chi-Ful Fridays: Qigong
DESCRIPTION:
URL:https://melbeachgrapevine.com/event/chi-ful-fridays-qigong/2024-11-15/
LOCATION:Ryckman Park\, 509 Ocean Ave\, Melbourne Beach\, FL\, 32951\, United States
CATEGORIES:Fitness
END:VEVENT
BEGIN:VEVENT
DTSTART;TZID=America/New_York:20241114T180000
DTEND;TZID=America/New_York:20241114T190000
DTSTAMP:20260421T202922
CREATED:20221025T194343Z
LAST-MODIFIED:20221101T201309Z
UID:10002638-1731607200-1731610800@melbeachgrapevine.com
SUMMARY:Sunset Yoga
DESCRIPTION:Join Jessica Mundo for Sunset Yoga. All levels welcome. \n  \n 
URL:https://melbeachgrapevine.com/event/sunset-yoga-2/2024-11-14/
LOCATION:Ryckman Park\, 509 Ocean Ave\, Melbourne Beach\, FL\, 32951\, United States
CATEGORIES:Fitness
END:VEVENT
BEGIN:VEVENT
DTSTART;TZID=America/New_York:20241113T090000
DTEND;TZID=America/New_York:20241113T094500
DTSTAMP:20260421T202922
CREATED:20221101T201221Z
LAST-MODIFIED:20221102T002638Z
UID:10002115-1731488400-1731491100@melbeachgrapevine.com
SUMMARY:Flow and Be Strong Fitness Class
DESCRIPTION:
URL:https://melbeachgrapevine.com/event/flow-and-be-strong-fitness-class/2024-11-13/
LOCATION:Ryckman Park\, 509 Ocean Ave\, Melbourne Beach\, FL\, 32951\, United States
CATEGORIES:Fitness
END:VEVENT
BEGIN:VEVENT
DTSTART;TZID=America/New_York:20241112T180000
DTEND;TZID=America/New_York:20241112T190000
DTSTAMP:20260421T202922
CREATED:20221019T203014Z
LAST-MODIFIED:20221101T201249Z
UID:10002377-1731434400-1731438000@melbeachgrapevine.com
SUMMARY:Sunset Yoga
DESCRIPTION:Enjoy a free yoga class led by Jessica Mundo. Great for all levels.
URL:https://melbeachgrapevine.com/event/sunset-yoga/2024-11-12/
LOCATION:Ryckman Park\, 509 Ocean Ave\, Melbourne Beach\, FL\, 32951\, United States
CATEGORIES:Fitness
END:VEVENT
BEGIN:VEVENT
DTSTART;TZID=America/New_York:20241108T103000
DTEND;TZID=America/New_York:20241108T113000
DTSTAMP:20260421T202922
CREATED:20221020T000240Z
LAST-MODIFIED:20221020T000241Z
UID:10001069-1731061800-1731065400@melbeachgrapevine.com
SUMMARY:Chi-Ful Fridays: Tai Chi 1+2
DESCRIPTION:
URL:https://melbeachgrapevine.com/event/chi-ful-fridays-tai-chi-12-2/2024-11-08/
LOCATION:Ryckman Park\, 509 Ocean Ave\, Melbourne Beach\, FL\, 32951\, United States
CATEGORIES:Fitness
END:VEVENT
BEGIN:VEVENT
DTSTART;TZID=America/New_York:20241108T093000
DTEND;TZID=America/New_York:20241108T223000
DTSTAMP:20260421T202922
CREATED:20221019T235901Z
LAST-MODIFIED:20221020T000134Z
UID:10000548-1731058200-1731105000@melbeachgrapevine.com
SUMMARY:Chi-Ful Fridays: Qigong
DESCRIPTION:
URL:https://melbeachgrapevine.com/event/chi-ful-fridays-qigong/2024-11-08/
LOCATION:Ryckman Park\, 509 Ocean Ave\, Melbourne Beach\, FL\, 32951\, United States
CATEGORIES:Fitness
END:VEVENT
BEGIN:VEVENT
DTSTART;TZID=America/New_York:20241107T180000
DTEND;TZID=America/New_York:20241107T190000
DTSTAMP:20260421T202922
CREATED:20221025T194343Z
LAST-MODIFIED:20221101T201309Z
UID:10002637-1731002400-1731006000@melbeachgrapevine.com
SUMMARY:Sunset Yoga
DESCRIPTION:Join Jessica Mundo for Sunset Yoga. All levels welcome. \n  \n 
URL:https://melbeachgrapevine.com/event/sunset-yoga-2/2024-11-07/
LOCATION:Ryckman Park\, 509 Ocean Ave\, Melbourne Beach\, FL\, 32951\, United States
CATEGORIES:Fitness
END:VEVENT
BEGIN:VEVENT
DTSTART;TZID=America/New_York:20241107T103000
DTEND;TZID=America/New_York:20241107T111500
DTSTAMP:20260421T202922
CREATED:20221019T200518Z
LAST-MODIFIED:20221130T204230Z
UID:10000026-1730975400-1730978100@melbeachgrapevine.com
SUMMARY:My Musical Tree
DESCRIPTION:
URL:https://melbeachgrapevine.com/event/my-musical-tree/2024-11-07/
LOCATION:Ryckman Park\, 509 Ocean Ave\, Melbourne Beach\, FL\, 32951\, United States
CATEGORIES:Kid Event
END:VEVENT
BEGIN:VEVENT
DTSTART;TZID=America/New_York:20241106T090000
DTEND;TZID=America/New_York:20241106T094500
DTSTAMP:20260421T202922
CREATED:20221101T201221Z
LAST-MODIFIED:20221102T002638Z
UID:10002114-1730883600-1730886300@melbeachgrapevine.com
SUMMARY:Flow and Be Strong Fitness Class
DESCRIPTION:
URL:https://melbeachgrapevine.com/event/flow-and-be-strong-fitness-class/2024-11-06/
LOCATION:Ryckman Park\, 509 Ocean Ave\, Melbourne Beach\, FL\, 32951\, United States
CATEGORIES:Fitness
END:VEVENT
BEGIN:VEVENT
DTSTART;TZID=America/New_York:20241105T180000
DTEND;TZID=America/New_York:20241105T190000
DTSTAMP:20260421T202922
CREATED:20221019T203014Z
LAST-MODIFIED:20221101T201249Z
UID:10002376-1730829600-1730833200@melbeachgrapevine.com
SUMMARY:Sunset Yoga
DESCRIPTION:Enjoy a free yoga class led by Jessica Mundo. Great for all levels.
URL:https://melbeachgrapevine.com/event/sunset-yoga/2024-11-05/
LOCATION:Ryckman Park\, 509 Ocean Ave\, Melbourne Beach\, FL\, 32951\, United States
CATEGORIES:Fitness
END:VEVENT
BEGIN:VEVENT
DTSTART;TZID=America/New_York:20241101T103000
DTEND;TZID=America/New_York:20241101T113000
DTSTAMP:20260421T202922
CREATED:20221020T000240Z
LAST-MODIFIED:20221020T000241Z
UID:10001068-1730457000-1730460600@melbeachgrapevine.com
SUMMARY:Chi-Ful Fridays: Tai Chi 1+2
DESCRIPTION:
URL:https://melbeachgrapevine.com/event/chi-ful-fridays-tai-chi-12-2/2024-11-01/
LOCATION:Ryckman Park\, 509 Ocean Ave\, Melbourne Beach\, FL\, 32951\, United States
CATEGORIES:Fitness
END:VEVENT
BEGIN:VEVENT
DTSTART;TZID=America/New_York:20241101T093000
DTEND;TZID=America/New_York:20241101T223000
DTSTAMP:20260421T202922
CREATED:20221019T235901Z
LAST-MODIFIED:20221020T000134Z
UID:10000547-1730453400-1730500200@melbeachgrapevine.com
SUMMARY:Chi-Ful Fridays: Qigong
DESCRIPTION:
URL:https://melbeachgrapevine.com/event/chi-ful-fridays-qigong/2024-11-01/
LOCATION:Ryckman Park\, 509 Ocean Ave\, Melbourne Beach\, FL\, 32951\, United States
CATEGORIES:Fitness
END:VEVENT
BEGIN:VEVENT
DTSTART;TZID=America/New_York:20241031T180000
DTEND;TZID=America/New_York:20241031T190000
DTSTAMP:20260421T202922
CREATED:20221025T194343Z
LAST-MODIFIED:20221101T201309Z
UID:10002636-1730397600-1730401200@melbeachgrapevine.com
SUMMARY:Sunset Yoga
DESCRIPTION:Join Jessica Mundo for Sunset Yoga. All levels welcome. \n  \n 
URL:https://melbeachgrapevine.com/event/sunset-yoga-2/2024-10-31/
LOCATION:Ryckman Park\, 509 Ocean Ave\, Melbourne Beach\, FL\, 32951\, United States
CATEGORIES:Fitness
END:VEVENT
BEGIN:VEVENT
DTSTART;TZID=America/New_York:20241030T090000
DTEND;TZID=America/New_York:20241030T094500
DTSTAMP:20260421T202922
CREATED:20221101T201221Z
LAST-MODIFIED:20221102T002638Z
UID:10002113-1730278800-1730281500@melbeachgrapevine.com
SUMMARY:Flow and Be Strong Fitness Class
DESCRIPTION:
URL:https://melbeachgrapevine.com/event/flow-and-be-strong-fitness-class/2024-10-30/
LOCATION:Ryckman Park\, 509 Ocean Ave\, Melbourne Beach\, FL\, 32951\, United States
CATEGORIES:Fitness
END:VEVENT
BEGIN:VEVENT
DTSTART;TZID=America/New_York:20241029T180000
DTEND;TZID=America/New_York:20241029T190000
DTSTAMP:20260421T202922
CREATED:20221019T203014Z
LAST-MODIFIED:20221101T201249Z
UID:10002375-1730224800-1730228400@melbeachgrapevine.com
SUMMARY:Sunset Yoga
DESCRIPTION:Enjoy a free yoga class led by Jessica Mundo. Great for all levels.
URL:https://melbeachgrapevine.com/event/sunset-yoga/2024-10-29/
LOCATION:Ryckman Park\, 509 Ocean Ave\, Melbourne Beach\, FL\, 32951\, United States
CATEGORIES:Fitness
END:VEVENT
BEGIN:VEVENT
DTSTART;TZID=America/New_York:20241025T103000
DTEND;TZID=America/New_York:20241025T113000
DTSTAMP:20260421T202922
CREATED:20221020T000240Z
LAST-MODIFIED:20221020T000241Z
UID:10001067-1729852200-1729855800@melbeachgrapevine.com
SUMMARY:Chi-Ful Fridays: Tai Chi 1+2
DESCRIPTION:
URL:https://melbeachgrapevine.com/event/chi-ful-fridays-tai-chi-12-2/2024-10-25/
LOCATION:Ryckman Park\, 509 Ocean Ave\, Melbourne Beach\, FL\, 32951\, United States
CATEGORIES:Fitness
END:VEVENT
BEGIN:VEVENT
DTSTART;TZID=America/New_York:20241025T093000
DTEND;TZID=America/New_York:20241025T223000
DTSTAMP:20260421T202922
CREATED:20221019T235901Z
LAST-MODIFIED:20221020T000134Z
UID:10000546-1729848600-1729895400@melbeachgrapevine.com
SUMMARY:Chi-Ful Fridays: Qigong
DESCRIPTION:
URL:https://melbeachgrapevine.com/event/chi-ful-fridays-qigong/2024-10-25/
LOCATION:Ryckman Park\, 509 Ocean Ave\, Melbourne Beach\, FL\, 32951\, United States
CATEGORIES:Fitness
END:VEVENT
BEGIN:VEVENT
DTSTART;TZID=America/New_York:20241024T180000
DTEND;TZID=America/New_York:20241024T190000
DTSTAMP:20260421T202922
CREATED:20221025T194343Z
LAST-MODIFIED:20221101T201309Z
UID:10002635-1729792800-1729796400@melbeachgrapevine.com
SUMMARY:Sunset Yoga
DESCRIPTION:Join Jessica Mundo for Sunset Yoga. All levels welcome. \n  \n 
URL:https://melbeachgrapevine.com/event/sunset-yoga-2/2024-10-24/
LOCATION:Ryckman Park\, 509 Ocean Ave\, Melbourne Beach\, FL\, 32951\, United States
CATEGORIES:Fitness
END:VEVENT
BEGIN:VEVENT
DTSTART;TZID=America/New_York:20241023T090000
DTEND;TZID=America/New_York:20241023T094500
DTSTAMP:20260421T202922
CREATED:20221101T201221Z
LAST-MODIFIED:20221102T002638Z
UID:10002112-1729674000-1729676700@melbeachgrapevine.com
SUMMARY:Flow and Be Strong Fitness Class
DESCRIPTION:
URL:https://melbeachgrapevine.com/event/flow-and-be-strong-fitness-class/2024-10-23/
LOCATION:Ryckman Park\, 509 Ocean Ave\, Melbourne Beach\, FL\, 32951\, United States
CATEGORIES:Fitness
END:VEVENT
BEGIN:VEVENT
DTSTART;TZID=America/New_York:20241022T180000
DTEND;TZID=America/New_York:20241022T190000
DTSTAMP:20260421T202922
CREATED:20221019T203014Z
LAST-MODIFIED:20221101T201249Z
UID:10002374-1729620000-1729623600@melbeachgrapevine.com
SUMMARY:Sunset Yoga
DESCRIPTION:Enjoy a free yoga class led by Jessica Mundo. Great for all levels.
URL:https://melbeachgrapevine.com/event/sunset-yoga/2024-10-22/
LOCATION:Ryckman Park\, 509 Ocean Ave\, Melbourne Beach\, FL\, 32951\, United States
CATEGORIES:Fitness
END:VEVENT
BEGIN:VEVENT
DTSTART;TZID=America/New_York:20241018T103000
DTEND;TZID=America/New_York:20241018T113000
DTSTAMP:20260421T202922
CREATED:20221020T000240Z
LAST-MODIFIED:20221020T000241Z
UID:10001066-1729247400-1729251000@melbeachgrapevine.com
SUMMARY:Chi-Ful Fridays: Tai Chi 1+2
DESCRIPTION:
URL:https://melbeachgrapevine.com/event/chi-ful-fridays-tai-chi-12-2/2024-10-18/
LOCATION:Ryckman Park\, 509 Ocean Ave\, Melbourne Beach\, FL\, 32951\, United States
CATEGORIES:Fitness
END:VEVENT
END:VCALENDAR