BEGIN:VCALENDAR
VERSION:2.0
PRODID:-// - ECPv6.0.1.1//NONSGML v1.0//EN
CALSCALE:GREGORIAN
METHOD:PUBLISH
X-ORIGINAL-URL:https://melbeachgrapevine.com
X-WR-CALDESC:Events for 
REFRESH-INTERVAL;VALUE=DURATION:PT1H
X-Robots-Tag:noindex
X-PUBLISHED-TTL:PT1H
BEGIN:VTIMEZONE
TZID:America/New_York
BEGIN:DAYLIGHT
TZOFFSETFROM:-0500
TZOFFSETTO:-0400
TZNAME:EDT
DTSTART:20240310T070000
END:DAYLIGHT
BEGIN:STANDARD
TZOFFSETFROM:-0400
TZOFFSETTO:-0500
TZNAME:EST
DTSTART:20241103T060000
END:STANDARD
END:VTIMEZONE
BEGIN:VEVENT
DTSTART;TZID=America/New_York:20241022T180000
DTEND;TZID=America/New_York:20241022T190000
DTSTAMP:20260424T043107
CREATED:20221019T203014Z
LAST-MODIFIED:20221101T201249Z
UID:10002374-1729620000-1729623600@melbeachgrapevine.com
SUMMARY:Sunset Yoga
DESCRIPTION:Enjoy a free yoga class led by Jessica Mundo. Great for all levels.
URL:https://melbeachgrapevine.com/event/sunset-yoga/2024-10-22/
LOCATION:Ryckman Park\, 509 Ocean Ave\, Melbourne Beach\, FL\, 32951\, United States
CATEGORIES:Fitness
END:VEVENT
BEGIN:VEVENT
DTSTART;TZID=America/New_York:20241018T103000
DTEND;TZID=America/New_York:20241018T113000
DTSTAMP:20260424T043107
CREATED:20221020T000240Z
LAST-MODIFIED:20221020T000241Z
UID:10001066-1729247400-1729251000@melbeachgrapevine.com
SUMMARY:Chi-Ful Fridays: Tai Chi 1+2
DESCRIPTION:
URL:https://melbeachgrapevine.com/event/chi-ful-fridays-tai-chi-12-2/2024-10-18/
LOCATION:Ryckman Park\, 509 Ocean Ave\, Melbourne Beach\, FL\, 32951\, United States
CATEGORIES:Fitness
END:VEVENT
BEGIN:VEVENT
DTSTART;TZID=America/New_York:20241018T093000
DTEND;TZID=America/New_York:20241018T223000
DTSTAMP:20260424T043107
CREATED:20221019T235901Z
LAST-MODIFIED:20221020T000134Z
UID:10000545-1729243800-1729290600@melbeachgrapevine.com
SUMMARY:Chi-Ful Fridays: Qigong
DESCRIPTION:
URL:https://melbeachgrapevine.com/event/chi-ful-fridays-qigong/2024-10-18/
LOCATION:Ryckman Park\, 509 Ocean Ave\, Melbourne Beach\, FL\, 32951\, United States
CATEGORIES:Fitness
END:VEVENT
BEGIN:VEVENT
DTSTART;TZID=America/New_York:20241017T180000
DTEND;TZID=America/New_York:20241017T190000
DTSTAMP:20260424T043107
CREATED:20221025T194343Z
LAST-MODIFIED:20221101T201309Z
UID:10002634-1729188000-1729191600@melbeachgrapevine.com
SUMMARY:Sunset Yoga
DESCRIPTION:Join Jessica Mundo for Sunset Yoga. All levels welcome. \n  \n 
URL:https://melbeachgrapevine.com/event/sunset-yoga-2/2024-10-17/
LOCATION:Ryckman Park\, 509 Ocean Ave\, Melbourne Beach\, FL\, 32951\, United States
CATEGORIES:Fitness
END:VEVENT
BEGIN:VEVENT
DTSTART;TZID=America/New_York:20241016T090000
DTEND;TZID=America/New_York:20241016T094500
DTSTAMP:20260424T043108
CREATED:20221101T201221Z
LAST-MODIFIED:20221102T002638Z
UID:10002111-1729069200-1729071900@melbeachgrapevine.com
SUMMARY:Flow and Be Strong Fitness Class
DESCRIPTION:
URL:https://melbeachgrapevine.com/event/flow-and-be-strong-fitness-class/2024-10-16/
LOCATION:Ryckman Park\, 509 Ocean Ave\, Melbourne Beach\, FL\, 32951\, United States
CATEGORIES:Fitness
END:VEVENT
BEGIN:VEVENT
DTSTART;TZID=America/New_York:20241015T180000
DTEND;TZID=America/New_York:20241015T190000
DTSTAMP:20260424T043108
CREATED:20221019T203014Z
LAST-MODIFIED:20221101T201249Z
UID:10002373-1729015200-1729018800@melbeachgrapevine.com
SUMMARY:Sunset Yoga
DESCRIPTION:Enjoy a free yoga class led by Jessica Mundo. Great for all levels.
URL:https://melbeachgrapevine.com/event/sunset-yoga/2024-10-15/
LOCATION:Ryckman Park\, 509 Ocean Ave\, Melbourne Beach\, FL\, 32951\, United States
CATEGORIES:Fitness
END:VEVENT
BEGIN:VEVENT
DTSTART;TZID=America/New_York:20241011T103000
DTEND;TZID=America/New_York:20241011T113000
DTSTAMP:20260424T043108
CREATED:20221020T000240Z
LAST-MODIFIED:20221020T000241Z
UID:10001065-1728642600-1728646200@melbeachgrapevine.com
SUMMARY:Chi-Ful Fridays: Tai Chi 1+2
DESCRIPTION:
URL:https://melbeachgrapevine.com/event/chi-ful-fridays-tai-chi-12-2/2024-10-11/
LOCATION:Ryckman Park\, 509 Ocean Ave\, Melbourne Beach\, FL\, 32951\, United States
CATEGORIES:Fitness
END:VEVENT
BEGIN:VEVENT
DTSTART;TZID=America/New_York:20241011T093000
DTEND;TZID=America/New_York:20241011T223000
DTSTAMP:20260424T043108
CREATED:20221019T235901Z
LAST-MODIFIED:20221020T000134Z
UID:10000544-1728639000-1728685800@melbeachgrapevine.com
SUMMARY:Chi-Ful Fridays: Qigong
DESCRIPTION:
URL:https://melbeachgrapevine.com/event/chi-ful-fridays-qigong/2024-10-11/
LOCATION:Ryckman Park\, 509 Ocean Ave\, Melbourne Beach\, FL\, 32951\, United States
CATEGORIES:Fitness
END:VEVENT
BEGIN:VEVENT
DTSTART;TZID=America/New_York:20241010T180000
DTEND;TZID=America/New_York:20241010T190000
DTSTAMP:20260424T043108
CREATED:20221025T194343Z
LAST-MODIFIED:20221101T201309Z
UID:10002633-1728583200-1728586800@melbeachgrapevine.com
SUMMARY:Sunset Yoga
DESCRIPTION:Join Jessica Mundo for Sunset Yoga. All levels welcome. \n  \n 
URL:https://melbeachgrapevine.com/event/sunset-yoga-2/2024-10-10/
LOCATION:Ryckman Park\, 509 Ocean Ave\, Melbourne Beach\, FL\, 32951\, United States
CATEGORIES:Fitness
END:VEVENT
BEGIN:VEVENT
DTSTART;TZID=America/New_York:20241009T090000
DTEND;TZID=America/New_York:20241009T094500
DTSTAMP:20260424T043108
CREATED:20221101T201221Z
LAST-MODIFIED:20221102T002638Z
UID:10002110-1728464400-1728467100@melbeachgrapevine.com
SUMMARY:Flow and Be Strong Fitness Class
DESCRIPTION:
URL:https://melbeachgrapevine.com/event/flow-and-be-strong-fitness-class/2024-10-09/
LOCATION:Ryckman Park\, 509 Ocean Ave\, Melbourne Beach\, FL\, 32951\, United States
CATEGORIES:Fitness
END:VEVENT
BEGIN:VEVENT
DTSTART;TZID=America/New_York:20241008T180000
DTEND;TZID=America/New_York:20241008T190000
DTSTAMP:20260424T043109
CREATED:20221019T203014Z
LAST-MODIFIED:20221101T201249Z
UID:10002372-1728410400-1728414000@melbeachgrapevine.com
SUMMARY:Sunset Yoga
DESCRIPTION:Enjoy a free yoga class led by Jessica Mundo. Great for all levels.
URL:https://melbeachgrapevine.com/event/sunset-yoga/2024-10-08/
LOCATION:Ryckman Park\, 509 Ocean Ave\, Melbourne Beach\, FL\, 32951\, United States
CATEGORIES:Fitness
END:VEVENT
BEGIN:VEVENT
DTSTART;TZID=America/New_York:20241004T103000
DTEND;TZID=America/New_York:20241004T113000
DTSTAMP:20260424T043109
CREATED:20221020T000240Z
LAST-MODIFIED:20221020T000241Z
UID:10001064-1728037800-1728041400@melbeachgrapevine.com
SUMMARY:Chi-Ful Fridays: Tai Chi 1+2
DESCRIPTION:
URL:https://melbeachgrapevine.com/event/chi-ful-fridays-tai-chi-12-2/2024-10-04/
LOCATION:Ryckman Park\, 509 Ocean Ave\, Melbourne Beach\, FL\, 32951\, United States
CATEGORIES:Fitness
END:VEVENT
BEGIN:VEVENT
DTSTART;TZID=America/New_York:20241004T093000
DTEND;TZID=America/New_York:20241004T223000
DTSTAMP:20260424T043109
CREATED:20221019T235901Z
LAST-MODIFIED:20221020T000134Z
UID:10000543-1728034200-1728081000@melbeachgrapevine.com
SUMMARY:Chi-Ful Fridays: Qigong
DESCRIPTION:
URL:https://melbeachgrapevine.com/event/chi-ful-fridays-qigong/2024-10-04/
LOCATION:Ryckman Park\, 509 Ocean Ave\, Melbourne Beach\, FL\, 32951\, United States
CATEGORIES:Fitness
END:VEVENT
BEGIN:VEVENT
DTSTART;TZID=America/New_York:20241003T180000
DTEND;TZID=America/New_York:20241003T190000
DTSTAMP:20260424T043109
CREATED:20221025T194343Z
LAST-MODIFIED:20221101T201309Z
UID:10002632-1727978400-1727982000@melbeachgrapevine.com
SUMMARY:Sunset Yoga
DESCRIPTION:Join Jessica Mundo for Sunset Yoga. All levels welcome. \n  \n 
URL:https://melbeachgrapevine.com/event/sunset-yoga-2/2024-10-03/
LOCATION:Ryckman Park\, 509 Ocean Ave\, Melbourne Beach\, FL\, 32951\, United States
CATEGORIES:Fitness
END:VEVENT
BEGIN:VEVENT
DTSTART;TZID=America/New_York:20241003T103000
DTEND;TZID=America/New_York:20241003T111500
DTSTAMP:20260424T043109
CREATED:20221019T200518Z
LAST-MODIFIED:20221130T204230Z
UID:10000025-1727951400-1727954100@melbeachgrapevine.com
SUMMARY:My Musical Tree
DESCRIPTION:
URL:https://melbeachgrapevine.com/event/my-musical-tree/2024-10-03/
LOCATION:Ryckman Park\, 509 Ocean Ave\, Melbourne Beach\, FL\, 32951\, United States
CATEGORIES:Kid Event
END:VEVENT
BEGIN:VEVENT
DTSTART;TZID=America/New_York:20241002T090000
DTEND;TZID=America/New_York:20241002T094500
DTSTAMP:20260424T043109
CREATED:20221101T201221Z
LAST-MODIFIED:20221102T002638Z
UID:10002109-1727859600-1727862300@melbeachgrapevine.com
SUMMARY:Flow and Be Strong Fitness Class
DESCRIPTION:
URL:https://melbeachgrapevine.com/event/flow-and-be-strong-fitness-class/2024-10-02/
LOCATION:Ryckman Park\, 509 Ocean Ave\, Melbourne Beach\, FL\, 32951\, United States
CATEGORIES:Fitness
END:VEVENT
BEGIN:VEVENT
DTSTART;TZID=America/New_York:20241001T180000
DTEND;TZID=America/New_York:20241001T190000
DTSTAMP:20260424T043109
CREATED:20221019T203014Z
LAST-MODIFIED:20221101T201249Z
UID:10002371-1727805600-1727809200@melbeachgrapevine.com
SUMMARY:Sunset Yoga
DESCRIPTION:Enjoy a free yoga class led by Jessica Mundo. Great for all levels.
URL:https://melbeachgrapevine.com/event/sunset-yoga/2024-10-01/
LOCATION:Ryckman Park\, 509 Ocean Ave\, Melbourne Beach\, FL\, 32951\, United States
CATEGORIES:Fitness
END:VEVENT
BEGIN:VEVENT
DTSTART;TZID=America/New_York:20240927T103000
DTEND;TZID=America/New_York:20240927T113000
DTSTAMP:20260424T043109
CREATED:20221020T000240Z
LAST-MODIFIED:20221020T000241Z
UID:10001063-1727433000-1727436600@melbeachgrapevine.com
SUMMARY:Chi-Ful Fridays: Tai Chi 1+2
DESCRIPTION:
URL:https://melbeachgrapevine.com/event/chi-ful-fridays-tai-chi-12-2/2024-09-27/
LOCATION:Ryckman Park\, 509 Ocean Ave\, Melbourne Beach\, FL\, 32951\, United States
CATEGORIES:Fitness
END:VEVENT
BEGIN:VEVENT
DTSTART;TZID=America/New_York:20240927T093000
DTEND;TZID=America/New_York:20240927T223000
DTSTAMP:20260424T043109
CREATED:20221019T235901Z
LAST-MODIFIED:20221020T000134Z
UID:10000542-1727429400-1727476200@melbeachgrapevine.com
SUMMARY:Chi-Ful Fridays: Qigong
DESCRIPTION:
URL:https://melbeachgrapevine.com/event/chi-ful-fridays-qigong/2024-09-27/
LOCATION:Ryckman Park\, 509 Ocean Ave\, Melbourne Beach\, FL\, 32951\, United States
CATEGORIES:Fitness
END:VEVENT
BEGIN:VEVENT
DTSTART;TZID=America/New_York:20240926T180000
DTEND;TZID=America/New_York:20240926T190000
DTSTAMP:20260424T043109
CREATED:20221025T194343Z
LAST-MODIFIED:20221101T201309Z
UID:10002631-1727373600-1727377200@melbeachgrapevine.com
SUMMARY:Sunset Yoga
DESCRIPTION:Join Jessica Mundo for Sunset Yoga. All levels welcome. \n  \n 
URL:https://melbeachgrapevine.com/event/sunset-yoga-2/2024-09-26/
LOCATION:Ryckman Park\, 509 Ocean Ave\, Melbourne Beach\, FL\, 32951\, United States
CATEGORIES:Fitness
END:VEVENT
BEGIN:VEVENT
DTSTART;TZID=America/New_York:20240925T090000
DTEND;TZID=America/New_York:20240925T094500
DTSTAMP:20260424T043109
CREATED:20221101T201221Z
LAST-MODIFIED:20221102T002638Z
UID:10002108-1727254800-1727257500@melbeachgrapevine.com
SUMMARY:Flow and Be Strong Fitness Class
DESCRIPTION:
URL:https://melbeachgrapevine.com/event/flow-and-be-strong-fitness-class/2024-09-25/
LOCATION:Ryckman Park\, 509 Ocean Ave\, Melbourne Beach\, FL\, 32951\, United States
CATEGORIES:Fitness
END:VEVENT
BEGIN:VEVENT
DTSTART;TZID=America/New_York:20240924T180000
DTEND;TZID=America/New_York:20240924T190000
DTSTAMP:20260424T043109
CREATED:20221019T203014Z
LAST-MODIFIED:20221101T201249Z
UID:10002370-1727200800-1727204400@melbeachgrapevine.com
SUMMARY:Sunset Yoga
DESCRIPTION:Enjoy a free yoga class led by Jessica Mundo. Great for all levels.
URL:https://melbeachgrapevine.com/event/sunset-yoga/2024-09-24/
LOCATION:Ryckman Park\, 509 Ocean Ave\, Melbourne Beach\, FL\, 32951\, United States
CATEGORIES:Fitness
END:VEVENT
BEGIN:VEVENT
DTSTART;TZID=America/New_York:20240920T103000
DTEND;TZID=America/New_York:20240920T113000
DTSTAMP:20260424T043109
CREATED:20221020T000240Z
LAST-MODIFIED:20221020T000241Z
UID:10001062-1726828200-1726831800@melbeachgrapevine.com
SUMMARY:Chi-Ful Fridays: Tai Chi 1+2
DESCRIPTION:
URL:https://melbeachgrapevine.com/event/chi-ful-fridays-tai-chi-12-2/2024-09-20/
LOCATION:Ryckman Park\, 509 Ocean Ave\, Melbourne Beach\, FL\, 32951\, United States
CATEGORIES:Fitness
END:VEVENT
BEGIN:VEVENT
DTSTART;TZID=America/New_York:20240920T093000
DTEND;TZID=America/New_York:20240920T223000
DTSTAMP:20260424T043109
CREATED:20221019T235901Z
LAST-MODIFIED:20221020T000134Z
UID:10000541-1726824600-1726871400@melbeachgrapevine.com
SUMMARY:Chi-Ful Fridays: Qigong
DESCRIPTION:
URL:https://melbeachgrapevine.com/event/chi-ful-fridays-qigong/2024-09-20/
LOCATION:Ryckman Park\, 509 Ocean Ave\, Melbourne Beach\, FL\, 32951\, United States
CATEGORIES:Fitness
END:VEVENT
BEGIN:VEVENT
DTSTART;TZID=America/New_York:20240919T180000
DTEND;TZID=America/New_York:20240919T190000
DTSTAMP:20260424T043109
CREATED:20221025T194343Z
LAST-MODIFIED:20221101T201309Z
UID:10002630-1726768800-1726772400@melbeachgrapevine.com
SUMMARY:Sunset Yoga
DESCRIPTION:Join Jessica Mundo for Sunset Yoga. All levels welcome. \n  \n 
URL:https://melbeachgrapevine.com/event/sunset-yoga-2/2024-09-19/
LOCATION:Ryckman Park\, 509 Ocean Ave\, Melbourne Beach\, FL\, 32951\, United States
CATEGORIES:Fitness
END:VEVENT
BEGIN:VEVENT
DTSTART;TZID=America/New_York:20240918T090000
DTEND;TZID=America/New_York:20240918T094500
DTSTAMP:20260424T043109
CREATED:20221101T201221Z
LAST-MODIFIED:20221102T002638Z
UID:10002107-1726650000-1726652700@melbeachgrapevine.com
SUMMARY:Flow and Be Strong Fitness Class
DESCRIPTION:
URL:https://melbeachgrapevine.com/event/flow-and-be-strong-fitness-class/2024-09-18/
LOCATION:Ryckman Park\, 509 Ocean Ave\, Melbourne Beach\, FL\, 32951\, United States
CATEGORIES:Fitness
END:VEVENT
BEGIN:VEVENT
DTSTART;TZID=America/New_York:20240917T180000
DTEND;TZID=America/New_York:20240917T190000
DTSTAMP:20260424T043109
CREATED:20221019T203014Z
LAST-MODIFIED:20221101T201249Z
UID:10002369-1726596000-1726599600@melbeachgrapevine.com
SUMMARY:Sunset Yoga
DESCRIPTION:Enjoy a free yoga class led by Jessica Mundo. Great for all levels.
URL:https://melbeachgrapevine.com/event/sunset-yoga/2024-09-17/
LOCATION:Ryckman Park\, 509 Ocean Ave\, Melbourne Beach\, FL\, 32951\, United States
CATEGORIES:Fitness
END:VEVENT
BEGIN:VEVENT
DTSTART;TZID=America/New_York:20240913T103000
DTEND;TZID=America/New_York:20240913T113000
DTSTAMP:20260424T043109
CREATED:20221020T000240Z
LAST-MODIFIED:20221020T000241Z
UID:10001061-1726223400-1726227000@melbeachgrapevine.com
SUMMARY:Chi-Ful Fridays: Tai Chi 1+2
DESCRIPTION:
URL:https://melbeachgrapevine.com/event/chi-ful-fridays-tai-chi-12-2/2024-09-13/
LOCATION:Ryckman Park\, 509 Ocean Ave\, Melbourne Beach\, FL\, 32951\, United States
CATEGORIES:Fitness
END:VEVENT
BEGIN:VEVENT
DTSTART;TZID=America/New_York:20240913T093000
DTEND;TZID=America/New_York:20240913T223000
DTSTAMP:20260424T043110
CREATED:20221019T235901Z
LAST-MODIFIED:20221020T000134Z
UID:10000540-1726219800-1726266600@melbeachgrapevine.com
SUMMARY:Chi-Ful Fridays: Qigong
DESCRIPTION:
URL:https://melbeachgrapevine.com/event/chi-ful-fridays-qigong/2024-09-13/
LOCATION:Ryckman Park\, 509 Ocean Ave\, Melbourne Beach\, FL\, 32951\, United States
CATEGORIES:Fitness
END:VEVENT
BEGIN:VEVENT
DTSTART;TZID=America/New_York:20240912T180000
DTEND;TZID=America/New_York:20240912T190000
DTSTAMP:20260424T043110
CREATED:20221025T194343Z
LAST-MODIFIED:20221101T201309Z
UID:10002629-1726164000-1726167600@melbeachgrapevine.com
SUMMARY:Sunset Yoga
DESCRIPTION:Join Jessica Mundo for Sunset Yoga. All levels welcome. \n  \n 
URL:https://melbeachgrapevine.com/event/sunset-yoga-2/2024-09-12/
LOCATION:Ryckman Park\, 509 Ocean Ave\, Melbourne Beach\, FL\, 32951\, United States
CATEGORIES:Fitness
END:VEVENT
END:VCALENDAR